BEGIN:VCALENDAR
VERSION:2.0
PRODID:-//Stoner Commons - ECPv6.2.9//NONSGML v1.0//EN
CALSCALE:GREGORIAN
METHOD:PUBLISH
X-WR-CALNAME:Stoner Commons
X-ORIGINAL-URL:https://stonercommons.com
X-WR-CALDESC:Events for Stoner Commons
REFRESH-INTERVAL;VALUE=DURATION:PT1H
X-Robots-Tag:noindex
X-PUBLISHED-TTL:PT1H
BEGIN:VTIMEZONE
TZID:UTC
BEGIN:STANDARD
TZOFFSETFROM:+0000
TZOFFSETTO:+0000
TZNAME:UTC
DTSTART:20170101T000000
END:STANDARD
TZID:America/New_York
BEGIN:DAYLIGHT
TZOFFSETFROM:-0500
TZOFFSETTO:-0400
TZNAME:EDT
DTSTART:20170312T070000
END:DAYLIGHT
BEGIN:STANDARD
TZOFFSETFROM:-0400
TZOFFSETTO:-0500
TZNAME:EST
DTSTART:20171105T060000
END:STANDARD
END:VTIMEZONE
BEGIN:VEVENT
DTSTART;TZID=UTC:20170311T160000
DTEND;TZID=UTC:20170311T210000
DTSTAMP:20260421T170416
CREATED:20170306T002531Z
LAST-MODIFIED:20170306T002531Z
UID:2841-1489248000-1489266000@stonercommons.com
SUMMARY:Angela Reed & Jeffrey Reed Wedding Reception
DESCRIPTION:
URL:https://stonercommons.com/event/angela-reed-jeffrey-reed-wedding-reception/
CATEGORIES:The Barn at Stoner Commons
END:VEVENT
BEGIN:VEVENT
DTSTART;TZID=UTC:20170307T173000
DTEND;TZID=UTC:20170307T213000
DTSTAMP:20260421T170416
CREATED:20170306T002415Z
LAST-MODIFIED:20170306T002415Z
UID:2839-1488907800-1488922200@stonercommons.com
SUMMARY:Social Securities Seminar & Dinner
DESCRIPTION:
URL:https://stonercommons.com/event/social-securities-seminar-dinner/
CATEGORIES:The Barn at Stoner Commons
END:VEVENT
BEGIN:VEVENT
DTSTART;TZID=UTC:20170304T203000
DTEND;TZID=UTC:20170304T233000
DTSTAMP:20260421T170416
CREATED:20170301T173153Z
LAST-MODIFIED:20170301T173153Z
UID:1989-1488659400-1488670200@stonercommons.com
SUMMARY:The Cavern Club ( Beatles Band)
DESCRIPTION:Beatles Cover Band
URL:https://stonercommons.com/event/the-cavern-club-beatles-band/
CATEGORIES:Stoner Grille
END:VEVENT
BEGIN:VEVENT
DTSTART;TZID=UTC:20170304T203000
DTEND;TZID=UTC:20170304T233000
DTSTAMP:20260421T170416
CREATED:20170203T160552Z
LAST-MODIFIED:20170301T165425Z
UID:866-1488659400-1488670200@stonercommons.com
SUMMARY:Cavern Club ( Beatles Band)
DESCRIPTION:Beatles Band
URL:https://stonercommons.com/event/cavern-club-beatles-band/
END:VEVENT
BEGIN:VEVENT
DTSTART;TZID=UTC:20170303T203000
DTEND;TZID=UTC:20170303T233000
DTSTAMP:20260421T170416
CREATED:20170301T165212Z
LAST-MODIFIED:20170301T165212Z
UID:1956-1488573000-1488583800@stonercommons.com
SUMMARY:The 1.21 Band
DESCRIPTION:1960s to 200 Rock and Roll Band
URL:https://stonercommons.com/event/the-1-21-band/
CATEGORIES:Stoner Grille
END:VEVENT
BEGIN:VEVENT
DTSTART;TZID=UTC:20170302T173000
DTEND;TZID=UTC:20170302T203000
DTSTAMP:20260421T170416
CREATED:20170306T002205Z
LAST-MODIFIED:20170306T004900Z
UID:2837-1488475800-1488486600@stonercommons.com
SUMMARY:Tecquan Club Hay Loft Dinner
DESCRIPTION:
URL:https://stonercommons.com/event/tecquan-club-hay-loft-dinner/
CATEGORIES:The Barn at Stoner Commons
END:VEVENT
BEGIN:VEVENT
DTSTART;TZID=UTC:20170224T203000
DTEND;TZID=UTC:20170224T230000
DTSTAMP:20260421T170416
CREATED:20170203T161933Z
LAST-MODIFIED:20170203T161933Z
UID:987-1487968200-1487977200@stonercommons.com
SUMMARY:MOE BLUES BAND
DESCRIPTION:
URL:https://stonercommons.com/event/moe-blues-band-3/
END:VEVENT
BEGIN:VEVENT
DTSTART;TZID=UTC:20170218T203000
DTEND;TZID=UTC:20170218T230000
DTSTAMP:20260421T170416
CREATED:20170203T161322Z
LAST-MODIFIED:20170203T161322Z
UID:880-1487449800-1487458800@stonercommons.com
SUMMARY:Corty Byron Band
DESCRIPTION:
URL:https://stonercommons.com/event/corty-byron-band-3/
END:VEVENT
BEGIN:VEVENT
DTSTART;TZID=UTC:20170217T203000
DTEND;TZID=UTC:20170217T230000
DTSTAMP:20260421T170416
CREATED:20170203T161142Z
LAST-MODIFIED:20170203T161142Z
UID:875-1487363400-1487372400@stonercommons.com
SUMMARY:Steven Courtney Band
DESCRIPTION:
URL:https://stonercommons.com/event/steven-courtney-band-2/
END:VEVENT
BEGIN:VEVENT
DTSTART;TZID=America/New_York:20170211T174500
DTEND;TZID=America/New_York:20170211T230000
DTSTAMP:20260421T170416
CREATED:20170127T164625Z
LAST-MODIFIED:20170215T204013Z
UID:262-1486835100-1486854000@stonercommons.com
SUMMARY:Valentines Dinner Dance with Pocket Full O Soul
DESCRIPTION:Valentine Dinner Dance  \nSaturday\, February 11\, 2017 5:45 -11PM \nThe Barn @ Stoners Commons \n605 Granite Run Drive \nLancaster \nPocket Full O’ Soul \nVoted Lancaster’s #1 Dance Band 2013\, 2014 & 2015 \nDinner Buffet – Dance Tickets Price pp: $40 \nTickets Go on Sale Tuesday 1/24/17 \nReservations Call: 717 208 6623 \nEmail: information@stonercommons.com \nDoors Open @ 5:45 for Dinner-Dance Guests Only Please! \nBuffet: 6-8 \nCash Bar 5:45-11 \nDance Only Guests: 7:30 \nPocket Full of Soul: 8-11 \nReserved Seating: Tables for 8 \nCash Bar all night \nDance only Tickets at the Door $10pp \nNo Pre-purchase Dance Only Tickets Available until 7:30-Feb 11 \nDance Only Guests please arrive @7:30PM \nBuffet Menu \nCrab & Asparagus Bisque \nSlow Roasted Prime Rib and Honey Baked Virginia Ham @ Carving Table \nPan Seared Chicken with Alfredo Sauce \nLemon Dill Baked Salmon with White Wine and Garlic Sauce \nItalian Sweet Sausage & Ricotta Stuffed Shells \nOven Roasted Potatoes \nStoner Farm House Grilled Vegetable Melody \nSalad Bar \nTripple Dark Chocolate Cake\, Layered Carrot Cake\, Creamy Coconut Cake and Petit Fours
URL:https://stonercommons.com/event/valentines-dinner-dance-with-pocket-full-o-soul/
LOCATION:PA\, 17601\, United States
CATEGORIES:The Barn at Stoner Commons
END:VEVENT
BEGIN:VEVENT
DTSTART;TZID=UTC:20170210T203000
DTEND;TZID=UTC:20170210T230000
DTSTAMP:20260421T170416
CREATED:20170203T152756Z
LAST-MODIFIED:20170203T152756Z
UID:272-1486758600-1486767600@stonercommons.com
SUMMARY:Think Tank
DESCRIPTION:
URL:https://stonercommons.com/event/think-tank/
END:VEVENT
BEGIN:VEVENT
DTSTART;TZID=UTC:20170204T203000
DTEND;TZID=UTC:20170204T230000
DTSTAMP:20260421T170416
CREATED:20170203T152652Z
LAST-MODIFIED:20170203T152652Z
UID:270-1486240200-1486249200@stonercommons.com
SUMMARY:Stu Huggens and The Black Hats Band
DESCRIPTION:
URL:https://stonercommons.com/event/stu-huggens-and-the-black-hats-band/
END:VEVENT
BEGIN:VEVENT
DTSTART;TZID=UTC:20170203T203000
DTEND;TZID=UTC:20170203T230100
DTSTAMP:20260421T170416
CREATED:20170203T152517Z
LAST-MODIFIED:20170203T162339Z
UID:268-1486153800-1486162860@stonercommons.com
SUMMARY:Tripple Deity
DESCRIPTION:
URL:https://stonercommons.com/event/tripple-deity/
END:VEVENT
BEGIN:VEVENT
DTSTART;TZID=UTC:20260421T170416
DTEND;TZID=UTC:20260421T170416
DTSTAMP:20260421T170416
CREATED:20190628T174704Z
LAST-MODIFIED:20190628T174704Z
UID:6331-1776791056-1776791056@stonercommons.com
SUMMARY:STONERSTOCK
DESCRIPTION:12.00 – 1.45pm  =  TBD \n2.00 – 4.00pm  =  BLUE VOODOO \n4.30 – 7.00pm  =  CORTY BYRON & FRIENDS \n7.30 – 10.00pm  =  POP SCOTCH \nSTONERSTOCK is a 2 day music festival that will be held on the lawn at Stoner Grille.  Doors will be open at 12.00pm and close 10.00pm each day.  The restaurant and mini golf will be open to event guests only. \nThere will be food\, drink and merchandise vendors onsite including BBQ\, beer tents and more.  You may also purchase a 2 day pass for $15.00.
URL:https://stonercommons.com/event/stonerstock-3/
CATEGORIES:Live Music & Events,Mini Golf,Stoner Grille
END:VEVENT
BEGIN:VEVENT
DTSTART;TZID=UTC:20260421T170416
DTEND;TZID=UTC:20260421T170416
DTSTAMP:20260421T170416
CREATED:20190628T170959Z
LAST-MODIFIED:20190628T170959Z
UID:6328-1776791056-1776791056@stonercommons.com
SUMMARY:STONERSTOCK
DESCRIPTION:12.00 – 1.45pm  =  TBD \n2.00 – 4.00pm  =  BLUE VOODOO \n4.30 – 7.00pm  =  CORTY BYRON & FRIENDS \n7.30 – 10.00pm  =  POP SCOTCH \nSTONERSTOCK is a 2 day music festival\, August 17th & 18th that will be held on the lawn at Stoner Grille.  Doors will open at 12.00pm and close at 10.00pm each day.  The restaurant and mini golf will be open to event guests only.  You can also purchase a 2 day pass for $15.00 which will get you in on both days\, and every guest who buys a ticket will receive a festival mug.
URL:https://stonercommons.com/event/stonerstock-2/
CATEGORIES:Live Music & Events,Mini Golf,Stoner Grille
END:VEVENT
END:VCALENDAR