BEGIN:VCALENDAR
VERSION:2.0
PRODID:-//Stoner Commons - ECPv6.2.9//NONSGML v1.0//EN
CALSCALE:GREGORIAN
METHOD:PUBLISH
X-WR-CALNAME:Stoner Commons
X-ORIGINAL-URL:https://stonercommons.com
X-WR-CALDESC:Events for Stoner Commons
REFRESH-INTERVAL;VALUE=DURATION:PT1H
X-Robots-Tag:noindex
X-PUBLISHED-TTL:PT1H
BEGIN:VTIMEZONE
TZID:UTC
BEGIN:STANDARD
TZOFFSETFROM:+0000
TZOFFSETTO:+0000
TZNAME:UTC
DTSTART:20170101T000000
END:STANDARD
END:VTIMEZONE
BEGIN:VEVENT
DTSTART;TZID=UTC:20170424T173000
DTEND;TZID=UTC:20170427T183000
DTSTAMP:20260421T142311
CREATED:20170424T175535Z
LAST-MODIFIED:20170424T175535Z
UID:3061-1493055000-1493317800@stonercommons.com
SUMMARY:Yoga with Marcy Diem @ 5:30. Detox at 5:30 The Barn  & Retox @ 6:30 Stoner Grille
DESCRIPTION:
URL:https://stonercommons.com/event/yoga-marcy-diem-530-detox-530-barn-retox-630-stoner-grille/
CATEGORIES:The Barn at Stoner Commons
END:VEVENT
BEGIN:VEVENT
DTSTART;TZID=UTC:20170422T203000
DTEND;TZID=UTC:20170422T230000
DTSTAMP:20260421T142311
CREATED:20170301T172716Z
LAST-MODIFIED:20170314T192930Z
UID:1985-1492893000-1492902000@stonercommons.com
SUMMARY:Great Big House Band
DESCRIPTION:R & R with Horns
URL:https://stonercommons.com/event/great-big-house-band/
CATEGORIES:Stoner Grille
END:VEVENT
BEGIN:VEVENT
DTSTART;TZID=UTC:20170422T170000
DTEND;TZID=UTC:20170422T220000
DTSTAMP:20260421T142311
CREATED:20170306T004520Z
LAST-MODIFIED:20170306T004520Z
UID:2866-1492880400-1492898400@stonercommons.com
SUMMARY:MTPL Fundraiser Dinner\, Night at the Races
DESCRIPTION:
URL:https://stonercommons.com/event/mtpl-fundraiser-dinner-night-at-the-races/
CATEGORIES:The Barn at Stoner Commons
END:VEVENT
BEGIN:VEVENT
DTSTART;TZID=UTC:20170422T113000
DTEND;TZID=UTC:20170422T153000
DTSTAMP:20260421T142311
CREATED:20170306T004418Z
LAST-MODIFIED:20170306T004418Z
UID:2864-1492860600-1492875000@stonercommons.com
SUMMARY:Baby Shower Hay Loft Luncheon
DESCRIPTION:
URL:https://stonercommons.com/event/baby-shower-hay-loft-luncheon/
CATEGORIES:The Barn at Stoner Commons
END:VEVENT
BEGIN:VEVENT
DTSTART;TZID=UTC:20170421T203000
DTEND;TZID=UTC:20170421T230000
DTSTAMP:20260421T142311
CREATED:20170301T172609Z
LAST-MODIFIED:20170301T172609Z
UID:1983-1492806600-1492815600@stonercommons.com
SUMMARY:Think Tank
DESCRIPTION:
URL:https://stonercommons.com/event/think-tank-3/
CATEGORIES:Stoner Grille
END:VEVENT
BEGIN:VEVENT
DTSTART;TZID=UTC:20170421T203000
DTEND;TZID=UTC:20170421T230000
DTSTAMP:20260421T142311
CREATED:20170203T184902Z
LAST-MODIFIED:20170203T184902Z
UID:1196-1492806600-1492815600@stonercommons.com
SUMMARY:Think Tank
DESCRIPTION:
URL:https://stonercommons.com/event/think-tank-2/
END:VEVENT
BEGIN:VEVENT
DTSTART;TZID=UTC:20170421T180000
DTEND;TZID=UTC:20170421T220000
DTSTAMP:20260421T142311
CREATED:20170306T004307Z
LAST-MODIFIED:20170306T004307Z
UID:2862-1492797600-1492812000@stonercommons.com
SUMMARY:Sweet 16 Birthday Party
DESCRIPTION:
URL:https://stonercommons.com/event/sweet-16-birthday-party/
CATEGORIES:The Barn at Stoner Commons
END:VEVENT
BEGIN:VEVENT
DTSTART;TZID=UTC:20170420T170000
DTEND;TZID=UTC:20170420T210000
DTSTAMP:20260421T142311
CREATED:20170306T004159Z
LAST-MODIFIED:20170306T004159Z
UID:2860-1492707600-1492722000@stonercommons.com
SUMMARY:Sylvan Advisors Client Appreciation Event
DESCRIPTION:
URL:https://stonercommons.com/event/sylvan-advisors-client-appreciation-event/
CATEGORIES:The Barn at Stoner Commons
END:VEVENT
BEGIN:VEVENT
DTSTART;TZID=UTC:20170419T190000
DTEND;TZID=UTC:20170419T213000
DTSTAMP:20260421T142311
CREATED:20170301T172504Z
LAST-MODIFIED:20170301T172504Z
UID:1981-1492628400-1492637400@stonercommons.com
SUMMARY:Corty Byron
DESCRIPTION:
URL:https://stonercommons.com/event/corty-byron/
CATEGORIES:Stoner Grille
END:VEVENT
BEGIN:VEVENT
DTSTART;TZID=UTC:20170418T080000
DTEND;TZID=UTC:20170418T110000
DTSTAMP:20260421T142311
CREATED:20170306T004053Z
LAST-MODIFIED:20170306T004053Z
UID:2858-1492502400-1492513200@stonercommons.com
SUMMARY:Stoudt Advisors Seminar
DESCRIPTION:
URL:https://stonercommons.com/event/stoudt-advisors-seminar-2/
CATEGORIES:The Barn at Stoner Commons
END:VEVENT
BEGIN:VEVENT
DTSTART;TZID=UTC:20170418T080000
DTEND;TZID=UTC:20170418T110000
DTSTAMP:20260421T142311
CREATED:20170306T003940Z
LAST-MODIFIED:20170307T213801Z
UID:2856-1492502400-1492513200@stonercommons.com
SUMMARY:Stoudt Advisors Seminar
DESCRIPTION:
URL:https://stonercommons.com/event/stoudt-advisors-seminar/
END:VEVENT
BEGIN:VEVENT
DTSTART;TZID=UTC:20170417T173000
DTEND;TZID=UTC:20170417T213000
DTSTAMP:20260421T142311
CREATED:20170307T214558Z
LAST-MODIFIED:20170307T214558Z
UID:2883-1492450200-1492464600@stonercommons.com
SUMMARY:Social Securities Seminar & Dinner with Steve Hohenwarter
DESCRIPTION:
URL:https://stonercommons.com/event/social-securities-seminar-dinner-with-steve-hohenwarter/
CATEGORIES:The Barn at Stoner Commons
END:VEVENT
BEGIN:VEVENT
DTSTART;TZID=UTC:20170417T173000
DTEND;TZID=UTC:20170417T213000
DTSTAMP:20260421T142311
CREATED:20170306T003732Z
LAST-MODIFIED:20170307T213708Z
UID:2852-1492450200-1492464600@stonercommons.com
SUMMARY:Social Securities Seminar & Dinner
DESCRIPTION:
URL:https://stonercommons.com/event/social-securities-seminar-dinner-2/
END:VEVENT
BEGIN:VEVENT
DTSTART;TZID=UTC:20170415T203000
DTEND;TZID=UTC:20170415T230000
DTSTAMP:20260421T142311
CREATED:20170301T172409Z
LAST-MODIFIED:20170301T172409Z
UID:1979-1492288200-1492297200@stonercommons.com
SUMMARY:Monica & Nina
DESCRIPTION:
URL:https://stonercommons.com/event/monica-nina/
CATEGORIES:Stoner Grille
END:VEVENT
BEGIN:VEVENT
DTSTART;TZID=UTC:20170415T203000
DTEND;TZID=UTC:20170415T230000
DTSTAMP:20260421T142311
CREATED:20170203T184819Z
LAST-MODIFIED:20170203T184819Z
UID:1194-1492288200-1492297200@stonercommons.com
SUMMARY:Mona & Nina Acoustic Duo
DESCRIPTION:
URL:https://stonercommons.com/event/mona-nina-acoustic-duo/
END:VEVENT
BEGIN:VEVENT
DTSTART;TZID=UTC:20170414T203000
DTEND;TZID=UTC:20170414T230000
DTSTAMP:20260421T142311
CREATED:20170303T144401Z
LAST-MODIFIED:20170410T145241Z
UID:2833-1492201800-1492210800@stonercommons.com
SUMMARY:Violetts
DESCRIPTION:French pop  gypsy jazz\, stellar female vocal harmony in four languages with mandolin\, guitar & upright bass.
URL:https://stonercommons.com/event/violetts/
CATEGORIES:Stoner Grille
END:VEVENT
BEGIN:VEVENT
DTSTART;TZID=UTC:20170408T203000
DTEND;TZID=UTC:20170408T230000
DTSTAMP:20260421T142311
CREATED:20170301T172229Z
LAST-MODIFIED:20170405T133536Z
UID:1977-1491683400-1491692400@stonercommons.com
SUMMARY:The 1.21 Band
DESCRIPTION:
URL:https://stonercommons.com/event/the-corty-byron-band/
CATEGORIES:Stoner Grille
END:VEVENT
BEGIN:VEVENT
DTSTART;TZID=UTC:20170408T203000
DTEND;TZID=UTC:20170408T230000
DTSTAMP:20260421T142311
CREATED:20170203T184725Z
LAST-MODIFIED:20170203T184725Z
UID:1192-1491683400-1491692400@stonercommons.com
SUMMARY:Corty Byron Band
DESCRIPTION:
URL:https://stonercommons.com/event/corty-byron-band/
END:VEVENT
BEGIN:VEVENT
DTSTART;TZID=UTC:20170408T000000
DTEND;TZID=UTC:20170408T180000
DTSTAMP:20260421T142311
CREATED:20170307T212525Z
LAST-MODIFIED:20170307T212525Z
UID:2876-1491609600-1491674400@stonercommons.com
SUMMARY:Penn Vet Supply Customer Appreciation Event
DESCRIPTION:
URL:https://stonercommons.com/event/penn-vet-supply-customer-appreciation-event-2/
CATEGORIES:The Barn at Stoner Commons
END:VEVENT
BEGIN:VEVENT
DTSTART;TZID=UTC:20170407T203000
DTEND;TZID=UTC:20170407T233000
DTSTAMP:20260421T142311
CREATED:20170301T172114Z
LAST-MODIFIED:20170301T172114Z
UID:1975-1491597000-1491607800@stonercommons.com
SUMMARY:Steven Courtney Band
DESCRIPTION:
URL:https://stonercommons.com/event/steven-courtney-band-4/
CATEGORIES:Stoner Grille
END:VEVENT
BEGIN:VEVENT
DTSTART;TZID=UTC:20170407T203000
DTEND;TZID=UTC:20170407T230000
DTSTAMP:20260421T142311
CREATED:20170203T184632Z
LAST-MODIFIED:20170203T184632Z
UID:1190-1491597000-1491606000@stonercommons.com
SUMMARY:Steven Courtney Band
DESCRIPTION:
URL:https://stonercommons.com/event/steven-courtney-band/
END:VEVENT
BEGIN:VEVENT
DTSTART;TZID=UTC:20170406T173000
DTEND;TZID=UTC:20170406T213000
DTSTAMP:20260421T142311
CREATED:20170306T003842Z
LAST-MODIFIED:20170307T213227Z
UID:2854-1491499800-1491514200@stonercommons.com
SUMMARY:Social Securities Seminar & Dinner
DESCRIPTION:
URL:https://stonercommons.com/event/penn-vet-supply-customer-appreciation-event/
CATEGORIES:The Barn at Stoner Commons
END:VEVENT
BEGIN:VEVENT
DTSTART;TZID=UTC:20170405T183000
DTEND;TZID=UTC:20170405T213000
DTSTAMP:20260421T142311
CREATED:20170306T003606Z
LAST-MODIFIED:20170307T213002Z
UID:2850-1491417000-1491427800@stonercommons.com
SUMMARY:Private Hay Loft Dinner Reservation
DESCRIPTION:Cindy & George Georgelis
URL:https://stonercommons.com/event/private-hay-loft-dinner-reservation/
CATEGORIES:The Barn at Stoner Commons
END:VEVENT
BEGIN:VEVENT
DTSTART;TZID=UTC:20170401T190000
DTEND;TZID=UTC:20170402T010000
DTSTAMP:20260421T142311
CREATED:20170301T171919Z
LAST-MODIFIED:20170316T232441Z
UID:1973-1491073200-1491094800@stonercommons.com
SUMMARY:Latin Dance Night -The Barn @ Stoner Commons - DJPoli & Dance Instruction by Loida 7PM to 1AM
DESCRIPTION:Doors Open at 7PM and we will close around 1AM-Cover Charge:$5-Latin Dance Instruction provided by Loida Esbri- DJ Poli The PhillyRican–Dress Code Enforced: No bill hats\, no t-shirts without sports jacket\, nice shoes ( no sneaks or street boots)-Nice table seating-Free Parking-Kitchen open to 11-Bar Closes at 12:30–Ask about the VIP Hay Loft Seating \n  \n  \n  \n 
URL:https://stonercommons.com/event/latin-dance-night-the-barn-stoner-commons-djpoli-dance-instruction-by-loida/
CATEGORIES:Stoner Grille,The Barn at Stoner Commons
END:VEVENT
BEGIN:VEVENT
DTSTART;TZID=UTC:20170331T203000
DTEND;TZID=UTC:20170331T230000
DTSTAMP:20260421T142311
CREATED:20170301T170350Z
LAST-MODIFIED:20170301T170350Z
UID:1971-1490992200-1491001200@stonercommons.com
SUMMARY:MOE Blues Band
DESCRIPTION:
URL:https://stonercommons.com/event/moe-blues-band-4/
CATEGORIES:Stoner Grille
END:VEVENT
BEGIN:VEVENT
DTSTART;TZID=UTC:20170331T203000
DTEND;TZID=UTC:20170331T230000
DTSTAMP:20260421T142311
CREATED:20170203T165038Z
LAST-MODIFIED:20170203T165038Z
UID:1082-1490992200-1491001200@stonercommons.com
SUMMARY:MOE BLUES BAND
DESCRIPTION:
URL:https://stonercommons.com/event/moe-blues-band/
END:VEVENT
BEGIN:VEVENT
DTSTART;TZID=UTC:20170325T203000
DTEND;TZID=UTC:20170325T233000
DTSTAMP:20260421T142311
CREATED:20170301T170255Z
LAST-MODIFIED:20170301T212910Z
UID:1969-1490473800-1490484600@stonercommons.com
SUMMARY:Stu Huggens & The Black Hats Band
DESCRIPTION:Country and Rock and Roll
URL:https://stonercommons.com/event/stu-huggens-the-black-hats-band/
CATEGORIES:Stoner Grille
END:VEVENT
BEGIN:VEVENT
DTSTART;TZID=UTC:20170324T203000
DTEND;TZID=UTC:20170324T233000
DTSTAMP:20260421T142311
CREATED:20170301T170201Z
LAST-MODIFIED:20170301T170201Z
UID:1967-1490387400-1490398200@stonercommons.com
SUMMARY:Hydroponic Philharmonic
DESCRIPTION:Dead Jam Band
URL:https://stonercommons.com/event/hydroponic-philharmonic/
CATEGORIES:Stoner Grille
END:VEVENT
BEGIN:VEVENT
DTSTART;TZID=UTC:20170324T203000
DTEND;TZID=UTC:20170324T230000
DTSTAMP:20260421T142311
CREATED:20170203T164941Z
LAST-MODIFIED:20170203T164941Z
UID:1080-1490387400-1490396400@stonercommons.com
SUMMARY:Hydroponic Philharmonic Band ( Grateful Dead Band)
DESCRIPTION:
URL:https://stonercommons.com/event/hydroponic-philharmonic-band-grateful-dead-band/
END:VEVENT
BEGIN:VEVENT
DTSTART;TZID=UTC:20170323T173000
DTEND;TZID=UTC:20170323T180000
DTSTAMP:20260421T142311
CREATED:20170306T003424Z
LAST-MODIFIED:20170306T003424Z
UID:2847-1490290200-1490292000@stonercommons.com
SUMMARY:Yoga Detox-Retox
DESCRIPTION:
URL:https://stonercommons.com/event/yoga-detox-retox/
CATEGORIES:The Barn at Stoner Commons
END:VEVENT
END:VCALENDAR