BEGIN:VCALENDAR
VERSION:2.0
PRODID:-//Stoner Commons - ECPv6.2.9//NONSGML v1.0//EN
CALSCALE:GREGORIAN
METHOD:PUBLISH
X-ORIGINAL-URL:https://stonercommons.com
X-WR-CALDESC:Events for Stoner Commons
REFRESH-INTERVAL;VALUE=DURATION:PT1H
X-Robots-Tag:noindex
X-PUBLISHED-TTL:PT1H
BEGIN:VTIMEZONE
TZID:UTC
BEGIN:STANDARD
TZOFFSETFROM:+0000
TZOFFSETTO:+0000
TZNAME:UTC
DTSTART:20170101T000000
END:STANDARD
END:VTIMEZONE
BEGIN:VEVENT
DTSTART;TZID=UTC:20170520T203000
DTEND;TZID=UTC:20170520T230000
DTSTAMP:20260421T130337
CREATED:20170503T143713Z
LAST-MODIFIED:20170503T143713Z
UID:3100-1495312200-1495321200@stonercommons.com
SUMMARY:Lavacave
DESCRIPTION:
URL:https://stonercommons.com/event/lavacave-6/
CATEGORIES:Stoner Grille
END:VEVENT
BEGIN:VEVENT
DTSTART;TZID=UTC:20170520T203000
DTEND;TZID=UTC:20170520T230000
DTSTAMP:20260421T130337
CREATED:20170203T185633Z
LAST-MODIFIED:20170203T185633Z
UID:1206-1495312200-1495321200@stonercommons.com
SUMMARY:LAVACAVE
DESCRIPTION:
URL:https://stonercommons.com/event/lavacave-2/
END:VEVENT
BEGIN:VEVENT
DTSTART;TZID=UTC:20170519T203000
DTEND;TZID=UTC:20170519T230000
DTSTAMP:20260421T130337
CREATED:20170503T141753Z
LAST-MODIFIED:20170503T141753Z
UID:3084-1495225800-1495234800@stonercommons.com
SUMMARY:Shawn and the Wantan
DESCRIPTION:
URL:https://stonercommons.com/event/shawn-and-the-wantan/
CATEGORIES:Stoner Grille
END:VEVENT
BEGIN:VEVENT
DTSTART;TZID=UTC:20170519T203000
DTEND;TZID=UTC:20170519T230000
DTSTAMP:20260421T130337
CREATED:20170203T185535Z
LAST-MODIFIED:20170203T185535Z
UID:1204-1495225800-1495234800@stonercommons.com
SUMMARY:Shawan & the Wantan
DESCRIPTION:
URL:https://stonercommons.com/event/shawan-the-wantan/
END:VEVENT
BEGIN:VEVENT
DTSTART;TZID=UTC:20170513T203000
DTEND;TZID=UTC:20170513T230000
DTSTAMP:20260421T130337
CREATED:20170503T142901Z
LAST-MODIFIED:20170503T142901Z
UID:3094-1494707400-1494716400@stonercommons.com
SUMMARY:Tuck Ryan Band
DESCRIPTION:
URL:https://stonercommons.com/event/tuck-ryan-band-2/
CATEGORIES:Stoner Grille
END:VEVENT
BEGIN:VEVENT
DTSTART;TZID=UTC:20170513T203000
DTEND;TZID=UTC:20170513T230000
DTSTAMP:20260421T130337
CREATED:20170203T185314Z
LAST-MODIFIED:20170203T185314Z
UID:1202-1494707400-1494716400@stonercommons.com
SUMMARY:TUCK & FRIENDS
DESCRIPTION:
URL:https://stonercommons.com/event/tuck-friends/
END:VEVENT
BEGIN:VEVENT
DTSTART;TZID=UTC:20170513T163000
DTEND;TZID=UTC:20170513T213000
DTSTAMP:20260421T130337
CREATED:20170307T215734Z
LAST-MODIFIED:20170307T220109Z
UID:2889-1494693000-1494711000@stonercommons.com
SUMMARY:Shea Lamphear & Travis Kopp Wedding Reception
DESCRIPTION:
URL:https://stonercommons.com/event/shea-lamphear-travis-kopp-wedding-reception/
CATEGORIES:The Barn at Stoner Commons
END:VEVENT
BEGIN:VEVENT
DTSTART;TZID=UTC:20170512T203000
DTEND;TZID=UTC:20170512T223000
DTSTAMP:20260421T130337
CREATED:20170503T141358Z
LAST-MODIFIED:20170503T141358Z
UID:3080-1494621000-1494628200@stonercommons.com
SUMMARY:Moe Blues Band
DESCRIPTION:
URL:https://stonercommons.com/event/moe-blues-band-5/
CATEGORIES:Stoner Grille
END:VEVENT
BEGIN:VEVENT
DTSTART;TZID=UTC:20170512T200000
DTEND;TZID=UTC:20170512T230000
DTSTAMP:20260421T130337
CREATED:20170203T185220Z
LAST-MODIFIED:20170203T185220Z
UID:1200-1494619200-1494630000@stonercommons.com
SUMMARY:MOE BLUES BAND
DESCRIPTION:
URL:https://stonercommons.com/event/moe-blues-band-2/
END:VEVENT
BEGIN:VEVENT
DTSTART;TZID=UTC:20170506T203000
DTEND;TZID=UTC:20170506T230000
DTSTAMP:20260421T130337
CREATED:20170503T143530Z
LAST-MODIFIED:20170503T143530Z
UID:3098-1494102600-1494111600@stonercommons.com
SUMMARY:Dan Dzilla Band
DESCRIPTION:
URL:https://stonercommons.com/event/dan-dzilla-band-2/
CATEGORIES:Stoner Grille
END:VEVENT
BEGIN:VEVENT
DTSTART;TZID=UTC:20170506T090000
DTEND;TZID=UTC:20170506T130000
DTSTAMP:20260421T130337
CREATED:20170307T215316Z
LAST-MODIFIED:20170307T215316Z
UID:2887-1494061200-1494075600@stonercommons.com
SUMMARY:Share Mothers Day Brunch
DESCRIPTION:
URL:https://stonercommons.com/event/share-mothers-day-brunch/
CATEGORIES:The Barn at Stoner Commons
END:VEVENT
BEGIN:VEVENT
DTSTART;TZID=UTC:20170505T200000
DTEND;TZID=UTC:20170505T230000
DTSTAMP:20260421T130337
CREATED:20170203T185113Z
LAST-MODIFIED:20170203T185113Z
UID:1198-1494014400-1494025200@stonercommons.com
SUMMARY:Jump Street 20's Jazz
DESCRIPTION:
URL:https://stonercommons.com/event/jump-street-20s-jazz/
END:VEVENT
BEGIN:VEVENT
DTSTART;TZID=UTC:20170503T203000
DTEND;TZID=UTC:20170503T230000
DTSTAMP:20260421T130337
CREATED:20170503T142947Z
LAST-MODIFIED:20170503T142947Z
UID:3096-1493843400-1493852400@stonercommons.com
SUMMARY:Lavacave
DESCRIPTION:
URL:https://stonercommons.com/event/lavacave-5/
CATEGORIES:Stoner Grille
END:VEVENT
BEGIN:VEVENT
DTSTART;TZID=UTC:20170503T203000
DTEND;TZID=UTC:20170503T230000
DTSTAMP:20260421T130337
CREATED:20170503T141842Z
LAST-MODIFIED:20170503T141842Z
UID:3086-1493843400-1493852400@stonercommons.com
SUMMARY:Lavacave
DESCRIPTION:
URL:https://stonercommons.com/event/lavacave-4/
CATEGORIES:Stoner Grille
END:VEVENT
BEGIN:VEVENT
DTSTART;TZID=UTC:20170503T203000
DTEND;TZID=UTC:20170503T230000
DTSTAMP:20260421T130337
CREATED:20170503T141226Z
LAST-MODIFIED:20170503T141226Z
UID:3078-1493843400-1493852400@stonercommons.com
SUMMARY:Dan Dzilla Band
DESCRIPTION:and
URL:https://stonercommons.com/event/dan-dzilla-band/
CATEGORIES:Stoner Grille
END:VEVENT
BEGIN:VEVENT
DTSTART;TZID=UTC:20170429T190000
DTEND;TZID=UTC:20170429T190000
DTSTAMP:20260421T130337
CREATED:20170301T172844Z
LAST-MODIFIED:20170410T134419Z
UID:1987-1493492400-1493492400@stonercommons.com
SUMMARY:Latin Night- Celebrate Spring with Dancing in The Barn
DESCRIPTION:Celebrate Spring in The Barn with our Second Latin Dance Night. \nDoors Open a 7:00 $5 Cash Cover \nDance Instruction with Lodi  7:30-8:30 \nDJ Poli 7:30 – 12:30 \nA la carte dining 7 -11 \nCash or Credit Bar 7-12
URL:https://stonercommons.com/event/stu-huggens-and-the-black-hats/
CATEGORIES:Stoner Grille,The Barn at Stoner Commons
END:VEVENT
BEGIN:VEVENT
DTSTART;TZID=UTC:20170428T180000
DTEND;TZID=UTC:20170428T223000
DTSTAMP:20260421T130337
CREATED:20170314T194059Z
LAST-MODIFIED:20170410T132856Z
UID:2953-1493402400-1493418600@stonercommons.com
SUMMARY:Mama Tried Band - Celebrate Spring - Dance & Dining in the Barn
DESCRIPTION:Doors open at 6 PM \n$10 Cover ( Cash at door please) \nA la carte Dining 6 -10 ( Limited Seating- First Come First Serve) Cash or Credit \nBar-Cash or Credit \nMama Tried Band from about 7 PM-10:30 PM \nAdvance tickets available @ Stoner Grille – 717 208 6623 \n  \n 
URL:https://stonercommons.com/event/mama-tried-band-celebrate-spring-dance-barn/
CATEGORIES:Stoner Grille,The Barn at Stoner Commons
END:VEVENT
BEGIN:VEVENT
DTSTART;TZID=UTC:20170426T193000
DTEND;TZID=UTC:20170426T213000
DTSTAMP:20260421T130337
CREATED:20170424T153635Z
LAST-MODIFIED:20170424T153635Z
UID:3053-1493235000-1493242200@stonercommons.com
SUMMARY:Bjorn & Francois w Robin Chambers
DESCRIPTION:
URL:https://stonercommons.com/event/bjorn-francois-w-robin-chambers/
CATEGORIES:Stoner Grille
END:VEVENT
BEGIN:VEVENT
DTSTART;TZID=UTC:20170425T173000
DTEND;TZID=UTC:20170425T213000
DTSTAMP:20260421T130337
CREATED:20170307T215140Z
LAST-MODIFIED:20170307T215140Z
UID:2885-1493141400-1493155800@stonercommons.com
SUMMARY:Social Securities Seminar & Dinner
DESCRIPTION:
URL:https://stonercommons.com/event/social-securities-seminar-dinner-3/
CATEGORIES:The Barn at Stoner Commons
END:VEVENT
BEGIN:VEVENT
DTSTART;TZID=UTC:20170425T133000
DTEND;TZID=UTC:20170425T170000
DTSTAMP:20260421T130337
CREATED:20170307T214225Z
LAST-MODIFIED:20170307T214225Z
UID:2881-1493127000-1493139600@stonercommons.com
SUMMARY:Groff Funeral Home Services -Hay Loft- Luncheon
DESCRIPTION:CO Linda Berger
URL:https://stonercommons.com/event/groff-funeral-home-services-hay-loft-luncheon/
CATEGORIES:The Barn at Stoner Commons
END:VEVENT
BEGIN:VEVENT
DTSTART;TZID=UTC:20170424T173000
DTEND;TZID=UTC:20170427T183000
DTSTAMP:20260421T130337
CREATED:20170424T175535Z
LAST-MODIFIED:20170424T175535Z
UID:3061-1493055000-1493317800@stonercommons.com
SUMMARY:Yoga with Marcy Diem @ 5:30. Detox at 5:30 The Barn  & Retox @ 6:30 Stoner Grille
DESCRIPTION:
URL:https://stonercommons.com/event/yoga-marcy-diem-530-detox-530-barn-retox-630-stoner-grille/
CATEGORIES:The Barn at Stoner Commons
END:VEVENT
BEGIN:VEVENT
DTSTART;TZID=UTC:20170422T203000
DTEND;TZID=UTC:20170422T230000
DTSTAMP:20260421T130337
CREATED:20170301T172716Z
LAST-MODIFIED:20170314T192930Z
UID:1985-1492893000-1492902000@stonercommons.com
SUMMARY:Great Big House Band
DESCRIPTION:R & R with Horns
URL:https://stonercommons.com/event/great-big-house-band/
CATEGORIES:Stoner Grille
END:VEVENT
BEGIN:VEVENT
DTSTART;TZID=UTC:20170422T170000
DTEND;TZID=UTC:20170422T220000
DTSTAMP:20260421T130337
CREATED:20170306T004520Z
LAST-MODIFIED:20170306T004520Z
UID:2866-1492880400-1492898400@stonercommons.com
SUMMARY:MTPL Fundraiser Dinner\, Night at the Races
DESCRIPTION:
URL:https://stonercommons.com/event/mtpl-fundraiser-dinner-night-at-the-races/
CATEGORIES:The Barn at Stoner Commons
END:VEVENT
BEGIN:VEVENT
DTSTART;TZID=UTC:20170422T113000
DTEND;TZID=UTC:20170422T153000
DTSTAMP:20260421T130337
CREATED:20170306T004418Z
LAST-MODIFIED:20170306T004418Z
UID:2864-1492860600-1492875000@stonercommons.com
SUMMARY:Baby Shower Hay Loft Luncheon
DESCRIPTION:
URL:https://stonercommons.com/event/baby-shower-hay-loft-luncheon/
CATEGORIES:The Barn at Stoner Commons
END:VEVENT
BEGIN:VEVENT
DTSTART;TZID=UTC:20170421T203000
DTEND;TZID=UTC:20170421T230000
DTSTAMP:20260421T130337
CREATED:20170301T172609Z
LAST-MODIFIED:20170301T172609Z
UID:1983-1492806600-1492815600@stonercommons.com
SUMMARY:Think Tank
DESCRIPTION:
URL:https://stonercommons.com/event/think-tank-3/
CATEGORIES:Stoner Grille
END:VEVENT
BEGIN:VEVENT
DTSTART;TZID=UTC:20170421T203000
DTEND;TZID=UTC:20170421T230000
DTSTAMP:20260421T130337
CREATED:20170203T184902Z
LAST-MODIFIED:20170203T184902Z
UID:1196-1492806600-1492815600@stonercommons.com
SUMMARY:Think Tank
DESCRIPTION:
URL:https://stonercommons.com/event/think-tank-2/
END:VEVENT
BEGIN:VEVENT
DTSTART;TZID=UTC:20170421T180000
DTEND;TZID=UTC:20170421T220000
DTSTAMP:20260421T130337
CREATED:20170306T004307Z
LAST-MODIFIED:20170306T004307Z
UID:2862-1492797600-1492812000@stonercommons.com
SUMMARY:Sweet 16 Birthday Party
DESCRIPTION:
URL:https://stonercommons.com/event/sweet-16-birthday-party/
CATEGORIES:The Barn at Stoner Commons
END:VEVENT
BEGIN:VEVENT
DTSTART;TZID=UTC:20170420T170000
DTEND;TZID=UTC:20170420T210000
DTSTAMP:20260421T130337
CREATED:20170306T004159Z
LAST-MODIFIED:20170306T004159Z
UID:2860-1492707600-1492722000@stonercommons.com
SUMMARY:Sylvan Advisors Client Appreciation Event
DESCRIPTION:
URL:https://stonercommons.com/event/sylvan-advisors-client-appreciation-event/
CATEGORIES:The Barn at Stoner Commons
END:VEVENT
BEGIN:VEVENT
DTSTART;TZID=UTC:20170419T190000
DTEND;TZID=UTC:20170419T213000
DTSTAMP:20260421T130337
CREATED:20170301T172504Z
LAST-MODIFIED:20170301T172504Z
UID:1981-1492628400-1492637400@stonercommons.com
SUMMARY:Corty Byron
DESCRIPTION:
URL:https://stonercommons.com/event/corty-byron/
CATEGORIES:Stoner Grille
END:VEVENT
BEGIN:VEVENT
DTSTART;TZID=UTC:20170418T080000
DTEND;TZID=UTC:20170418T110000
DTSTAMP:20260421T130337
CREATED:20170306T004053Z
LAST-MODIFIED:20170306T004053Z
UID:2858-1492502400-1492513200@stonercommons.com
SUMMARY:Stoudt Advisors Seminar
DESCRIPTION:
URL:https://stonercommons.com/event/stoudt-advisors-seminar-2/
CATEGORIES:The Barn at Stoner Commons
END:VEVENT
END:VCALENDAR