BEGIN:VCALENDAR
VERSION:2.0
PRODID:-//Stoner Commons - ECPv6.2.9//NONSGML v1.0//EN
CALSCALE:GREGORIAN
METHOD:PUBLISH
X-ORIGINAL-URL:https://stonercommons.com
X-WR-CALDESC:Events for Stoner Commons
REFRESH-INTERVAL;VALUE=DURATION:PT1H
X-Robots-Tag:noindex
X-PUBLISHED-TTL:PT1H
BEGIN:VTIMEZONE
TZID:UTC
BEGIN:STANDARD
TZOFFSETFROM:+0000
TZOFFSETTO:+0000
TZNAME:UTC
DTSTART:20170101T000000
END:STANDARD
END:VTIMEZONE
BEGIN:VEVENT
DTSTART;TZID=UTC:20170816T190000
DTEND;TZID=UTC:20170816T210000
DTSTAMP:20260423T095721
CREATED:20170814T134108Z
LAST-MODIFIED:20170814T134108Z
UID:3597-1502910000-1502917200@stonercommons.com
SUMMARY:Corty Byron
DESCRIPTION:
URL:https://stonercommons.com/event/corty-byron-2/
CATEGORIES:Live Music & Events,Stoner Grille
END:VEVENT
BEGIN:VEVENT
DTSTART;TZID=UTC:20170813T100000
DTEND;TZID=UTC:20170813T170000
DTSTAMP:20260423T095721
CREATED:20170612T201328Z
LAST-MODIFIED:20170619T181309Z
UID:3161-1502618400-1502643600@stonercommons.com
SUMMARY:Dog Days of Summer at Stoner Commons
DESCRIPTION:Dog Days Of Summer Festival benefiting Furever Home Adoption Center\nAugust 13th from 10 am – 5 pm\n \nJoin us for this free\, public\, pet-friendly event at Stoner Commons! \n\nSome of the fun will include a pet fashion show ($5 donation to participate)\, dog trick contest\, pet & people caricatures\, live music\, giveaways\, raffles\, vendors & crafters\, a 50/50 raffle\, plus food & drink specials for the humans as well as the dogs!\n \nThis event is pet-friendly\, family-friendly\, is both outside as well as inside and will be held rain or shine! Be sure to bring your pups! \nFor more information or to sponsor/participate\, please email Tina at flippers1@aol.com. This event is proudly sponsored by Lancaster County Pet Magazine and Stoner Commons.\n\n\n 
URL:https://stonercommons.com/event/dog-days-summer-stoner-commons/
CATEGORIES:Mini Golf,Stoner Grille,The Barn at Stoner Commons
ATTACH;FMTTYPE=image/jpeg:https://stonercommons.com/wp-content/uploads/2017/06/2017-05-10-17.55.37.jpg
END:VEVENT
BEGIN:VEVENT
DTSTART;TZID=UTC:20170811T203000
DTEND;TZID=UTC:20170811T235900
DTSTAMP:20260423T095721
CREATED:20170811T142500Z
LAST-MODIFIED:20170811T143004Z
UID:3581-1502483400-1502495940@stonercommons.com
SUMMARY:Latin Dance Night
DESCRIPTION:Doors open at 8:30pm\, Last Call at 1:00am\, $10 cover at the door
URL:https://stonercommons.com/event/latin-dance-night/
CATEGORIES:Live Music & Events,The Barn at Stoner Commons
END:VEVENT
BEGIN:VEVENT
DTSTART;TZID=UTC:20170809T190000
DTEND;TZID=UTC:20170809T210000
DTSTAMP:20260423T095721
CREATED:20170814T133810Z
LAST-MODIFIED:20170814T133810Z
UID:3593-1502305200-1502312400@stonercommons.com
SUMMARY:Mike Steele
DESCRIPTION:
URL:https://stonercommons.com/event/mike-steele/
CATEGORIES:Live Music & Events,Stoner Grille
END:VEVENT
BEGIN:VEVENT
DTSTART;TZID=UTC:20170805T203000
DTEND;TZID=UTC:20170805T223000
DTSTAMP:20260423T095721
CREATED:20170814T133633Z
LAST-MODIFIED:20170814T133633Z
UID:3591-1501965000-1501972200@stonercommons.com
SUMMARY:Moe Blues
DESCRIPTION:
URL:https://stonercommons.com/event/moe-blues-3/
CATEGORIES:Live Music & Events,Stoner Grille
END:VEVENT
BEGIN:VEVENT
DTSTART;TZID=UTC:20170804T203000
DTEND;TZID=UTC:20170804T223000
DTSTAMP:20260423T095721
CREATED:20170814T133545Z
LAST-MODIFIED:20170814T133545Z
UID:3589-1501878600-1501885800@stonercommons.com
SUMMARY:Shawan and the Wantan
DESCRIPTION:
URL:https://stonercommons.com/event/shawan-and-the-wantan/
CATEGORIES:Live Music & Events,Stoner Grille
END:VEVENT
BEGIN:VEVENT
DTSTART;TZID=UTC:20170729T173000
DTEND;TZID=UTC:20170729T223000
DTSTAMP:20260423T095721
CREATED:20170313T202229Z
LAST-MODIFIED:20170313T202229Z
UID:2915-1501349400-1501367400@stonercommons.com
SUMMARY:Rynier & Rook Wedding Reception
DESCRIPTION:
URL:https://stonercommons.com/event/rynier-rook-wedding-reception/
CATEGORIES:The Barn at Stoner Commons
END:VEVENT
BEGIN:VEVENT
DTSTART;TZID=UTC:20170722T203000
DTEND;TZID=UTC:20170722T230000
DTSTAMP:20260423T095721
CREATED:20170203T191510Z
LAST-MODIFIED:20170203T191510Z
UID:1225-1500755400-1500764400@stonercommons.com
SUMMARY:Lavacave
DESCRIPTION:
URL:https://stonercommons.com/event/lavacave-3/
END:VEVENT
BEGIN:VEVENT
DTSTART;TZID=UTC:20170721T200000
DTEND;TZID=UTC:20170721T230000
DTSTAMP:20260423T095721
CREATED:20170203T191433Z
LAST-MODIFIED:20170203T191433Z
UID:1223-1500667200-1500678000@stonercommons.com
SUMMARY:MOE BLUES
DESCRIPTION:
URL:https://stonercommons.com/event/moe-blues-2/
END:VEVENT
BEGIN:VEVENT
DTSTART;TZID=UTC:20170715T150000
DTEND;TZID=UTC:20170715T210000
DTSTAMP:20260423T095721
CREATED:20170313T201947Z
LAST-MODIFIED:20170313T201947Z
UID:2913-1500130800-1500152400@stonercommons.com
SUMMARY:Dodson & Koontz Wedding & Reception
DESCRIPTION:
URL:https://stonercommons.com/event/dodson-koontz-wedding-reception/
CATEGORIES:The Barn at Stoner Commons
END:VEVENT
BEGIN:VEVENT
DTSTART;TZID=UTC:20170709T170000
DTEND;TZID=UTC:20170709T220000
DTSTAMP:20260423T095721
CREATED:20170313T201652Z
LAST-MODIFIED:20170313T201652Z
UID:2911-1499619600-1499637600@stonercommons.com
SUMMARY:Carroll & Rieff Wedding Reception
DESCRIPTION:
URL:https://stonercommons.com/event/carroll-rieff-wedding-reception/
CATEGORIES:The Barn at Stoner Commons
END:VEVENT
BEGIN:VEVENT
DTSTART;TZID=UTC:20170707T203000
DTEND;TZID=UTC:20170707T230000
DTSTAMP:20260423T095721
CREATED:20170203T190605Z
LAST-MODIFIED:20170203T190605Z
UID:1216-1499459400-1499468400@stonercommons.com
SUMMARY:Shawn & the Wonton
DESCRIPTION:
URL:https://stonercommons.com/event/shawn-the-wonton/
END:VEVENT
BEGIN:VEVENT
DTSTART;TZID=UTC:20170702T130000
DTEND;TZID=UTC:20170702T160000
DTSTAMP:20260423T095721
CREATED:20170313T201455Z
LAST-MODIFIED:20170313T201455Z
UID:2909-1499000400-1499011200@stonercommons.com
SUMMARY:Hay Loft Baby Shower Monica Reese
DESCRIPTION:
URL:https://stonercommons.com/event/hay-loft-baby-shower-monica-reese/
CATEGORIES:The Barn at Stoner Commons
END:VEVENT
BEGIN:VEVENT
DTSTART;TZID=UTC:20170701T193000
DTEND;TZID=UTC:20170702T010000
DTSTAMP:20260423T095721
CREATED:20170626T221457Z
LAST-MODIFIED:20170626T221457Z
UID:3506-1498937400-1498957200@stonercommons.com
SUMMARY:Latin Dance Night @ The Barn July 1 @ 7:30PM
DESCRIPTION:
URL:https://stonercommons.com/event/latin-dance-night-barn-july-1-730pm/
CATEGORIES:The Barn at Stoner Commons
END:VEVENT
BEGIN:VEVENT
DTSTART;TZID=UTC:20170630T183000
DTEND;TZID=UTC:20170630T220000
DTSTAMP:20260423T095721
CREATED:20170317T154905Z
LAST-MODIFIED:20170629T213639Z
UID:2964-1498847400-1498860000@stonercommons.com
SUMMARY:Pocket Full o Soul
DESCRIPTION:One of the very best  R & B Dance Bands around. This event will be held on The Patio at Stoner Grille weather permitting. In the event of bad weather we will move Pocket Full of Soul to The Barn. $5 Cover.
URL:https://stonercommons.com/event/pocket-full-o-soul/
CATEGORIES:Stoner Grille,The Barn at Stoner Commons
END:VEVENT
BEGIN:VEVENT
DTSTART;TZID=UTC:20170624T173000
DTEND;TZID=UTC:20170624T223000
DTSTAMP:20260423T095721
CREATED:20170313T201046Z
LAST-MODIFIED:20170313T201046Z
UID:2907-1498325400-1498343400@stonercommons.com
SUMMARY:Vandam & Duke Wedding Reception
DESCRIPTION:
URL:https://stonercommons.com/event/vandam-duke-wedding-reception/
CATEGORIES:The Barn at Stoner Commons
END:VEVENT
BEGIN:VEVENT
DTSTART;TZID=UTC:20170623T180000
DTEND;TZID=UTC:20170623T230000
DTSTAMP:20260423T095721
CREATED:20170412T150659Z
LAST-MODIFIED:20170621T172529Z
UID:3024-1498240800-1498258800@stonercommons.com
SUMMARY:Maxwell Project Summer Dance Canceled
DESCRIPTION:
URL:https://stonercommons.com/event/maxwell-project-summer-dance/
END:VEVENT
BEGIN:VEVENT
DTSTART;TZID=UTC:20170617T200000
DTEND;TZID=UTC:20170617T230000
DTSTAMP:20260423T095721
CREATED:20170203T191142Z
LAST-MODIFIED:20170203T191142Z
UID:1221-1497729600-1497740400@stonercommons.com
SUMMARY:Corty Byron Band
DESCRIPTION:
URL:https://stonercommons.com/event/corty-byron-band-2/
END:VEVENT
BEGIN:VEVENT
DTSTART;TZID=UTC:20170617T160000
DTEND;TZID=UTC:20170617T210000
DTSTAMP:20260423T095721
CREATED:20170313T200833Z
LAST-MODIFIED:20170313T200833Z
UID:2905-1497715200-1497733200@stonercommons.com
SUMMARY:Lewis & Buchmoyer Wedding Reception
DESCRIPTION:
URL:https://stonercommons.com/event/lewis-buchmoyer-wedding-reception/
CATEGORIES:The Barn at Stoner Commons
END:VEVENT
BEGIN:VEVENT
DTSTART;TZID=UTC:20170616T203000
DTEND;TZID=UTC:20170616T230000
DTSTAMP:20260423T095721
CREATED:20170203T191053Z
LAST-MODIFIED:20170203T191247Z
UID:1219-1497645000-1497654000@stonercommons.com
SUMMARY:MOE BLUES
DESCRIPTION:
URL:https://stonercommons.com/event/moe-blues/
END:VEVENT
BEGIN:VEVENT
DTSTART;TZID=UTC:20170610T203000
DTEND;TZID=UTC:20170610T230000
DTSTAMP:20260423T095721
CREATED:20170203T190217Z
LAST-MODIFIED:20170203T190217Z
UID:1214-1497126600-1497135600@stonercommons.com
SUMMARY:Tuck & Friends
DESCRIPTION:
URL:https://stonercommons.com/event/tuck-friends-2/
END:VEVENT
BEGIN:VEVENT
DTSTART;TZID=UTC:20170610T160000
DTEND;TZID=UTC:20170610T210000
DTSTAMP:20260423T095721
CREATED:20170314T184402Z
LAST-MODIFIED:20170412T151235Z
UID:2950-1497110400-1497128400@stonercommons.com
SUMMARY:Kile & Nickel Wedding Reception
DESCRIPTION:
URL:https://stonercommons.com/event/trile-nickel-wedding-reception/
CATEGORIES:The Barn at Stoner Commons
END:VEVENT
BEGIN:VEVENT
DTSTART;TZID=UTC:20170609T203000
DTEND;TZID=UTC:20170609T230000
DTSTAMP:20260423T095721
CREATED:20170203T190018Z
LAST-MODIFIED:20170203T190114Z
UID:1212-1497040200-1497049200@stonercommons.com
SUMMARY:Sabrina Duke Band
DESCRIPTION:
URL:https://stonercommons.com/event/sabrina-duke-band/
END:VEVENT
BEGIN:VEVENT
DTSTART;TZID=UTC:20170607T103000
DTEND;TZID=UTC:20170607T103000
DTSTAMP:20260423T095721
CREATED:20170503T152257Z
LAST-MODIFIED:20170503T152257Z
UID:3102-1496831400-1496831400@stonercommons.com
SUMMARY:Moravian Manor Mini Golf and Lunch Outing @ Stoner Grille
DESCRIPTION:Moravian Manor Bus Trip to Stoner Grille \nWednesday June 7 \nArrive 10:30AM for Mini Golf \nLunch about: 11:30 AM \nContact: Holly Bagan? \nPhone: 717 625 6132 \nMax Attendance: 21 \nGolf Fee $5 \n 
URL:https://stonercommons.com/event/moravian-manor-mini-golf-lunch-outing-stoner-grille/
CATEGORIES:Mini Golf,Stoner Grille
END:VEVENT
BEGIN:VEVENT
DTSTART;TZID=UTC:20170603T203000
DTEND;TZID=UTC:20170603T230000
DTSTAMP:20260423T095721
CREATED:20170203T185929Z
LAST-MODIFIED:20170203T185929Z
UID:1210-1496521800-1496530800@stonercommons.com
SUMMARY:Steven Courtney Band
DESCRIPTION:
URL:https://stonercommons.com/event/steven-courtney-band-3/
END:VEVENT
BEGIN:VEVENT
DTSTART;TZID=UTC:20170603T170000
DTEND;TZID=UTC:20170603T220000
DTSTAMP:20260423T095721
CREATED:20170313T200552Z
LAST-MODIFIED:20170313T200552Z
UID:2903-1496509200-1496527200@stonercommons.com
SUMMARY:Blair & Hushman Wedding Reception
DESCRIPTION:
URL:https://stonercommons.com/event/blair-hushman-wedding-reception/
CATEGORIES:The Barn at Stoner Commons
END:VEVENT
BEGIN:VEVENT
DTSTART;TZID=UTC:20170527T203000
DTEND;TZID=UTC:20170527T230000
DTSTAMP:20260423T095721
CREATED:20170203T185744Z
LAST-MODIFIED:20170203T185744Z
UID:1208-1495917000-1495926000@stonercommons.com
SUMMARY:Cavern Club ( Beatles Tribute)
DESCRIPTION:
URL:https://stonercommons.com/event/cavern-club-beatles-tribute/
END:VEVENT
BEGIN:VEVENT
DTSTART;TZID=UTC:20170527T193000
DTEND;TZID=UTC:20170527T220000
DTSTAMP:20260423T095721
CREATED:20170503T142325Z
LAST-MODIFIED:20170503T142325Z
UID:3090-1495913400-1495922400@stonercommons.com
SUMMARY:Cavern Club Beatles Band on The Patio
DESCRIPTION:
URL:https://stonercommons.com/event/cavern-club-beatles-band-patio/
CATEGORIES:Stoner Grille
END:VEVENT
BEGIN:VEVENT
DTSTART;TZID=UTC:20170527T170000
DTEND;TZID=UTC:20170527T220000
DTSTAMP:20260423T095721
CREATED:20170313T200300Z
LAST-MODIFIED:20170313T200300Z
UID:2901-1495904400-1495922400@stonercommons.com
SUMMARY:Blackman & Terry Wedding Reception
DESCRIPTION:
URL:https://stonercommons.com/event/blackman-terry-wedding-reception/
CATEGORIES:The Barn at Stoner Commons
END:VEVENT
BEGIN:VEVENT
DTSTART;TZID=UTC:20170526T210000
DTEND;TZID=UTC:20170527T010000
DTSTAMP:20260423T095721
CREATED:20170503T142201Z
LAST-MODIFIED:20170503T142201Z
UID:3088-1495832400-1495846800@stonercommons.com
SUMMARY:Latin Night with PA Mambo Salsa & DJ Pauli Band in The Barn
DESCRIPTION:
URL:https://stonercommons.com/event/latin-night-pa-mambo-salsa-dj-pauli-band-barn/
CATEGORIES:Stoner Grille,The Barn at Stoner Commons
END:VEVENT
END:VCALENDAR